BEGIN:VCALENDAR
VERSION:2.0
PRODID:-//Associazione Graffiti
CALSCALE:GREGORIAN
METHOD:PUBLISH
X-WR-CALNAME:Associazione Graffiti
X-ORIGINAL-URL:https://graffitiscuola.it/event/mostra-fotografica/
X-WR-CALDESC:Mostra Fotografica: “Kumbha Mela – Il viaggio dell’Anima” di Autori vari
BEGIN:VEVENT
DTSTART:20111008T000000
DTEND:20111115T000000
SUMMARY:Mostra Fotografica: “Kumbha Mela – Il viaggio dell’Anima” di Autori vari
DESCRIPTION:Mostra Fotografica: “Kumbha Mela – Il viaggio dell’Anima” 
di Autori vari
8 Ottotbre - 15 Novembre 2011
Museo Nazionale Preistorico Etnografico Luigi Pigorini, Roma
LOCATION:Via Latina, 515
END:VEVENT
END:VCALENDAR
