BEGIN:VCALENDAR
VERSION:2.0
PRODID:-//Associazione Graffiti
CALSCALE:GREGORIAN
METHOD:PUBLISH
X-WR-CALNAME:Associazione Graffiti
X-ORIGINAL-URL:https://graffitiscuola.it/event/mostra-fotografica-jazz-black-music-di-gianni-pinnizzotto/
X-WR-CALDESC:Mostra Fotografica:  “JAZZ – BLACK MUSIC”  di Gianni Pinnizzotto
BEGIN:VEVENT
DTSTART:20100620T000000
DTEND:
SUMMARY:Mostra Fotografica:  “JAZZ – BLACK MUSIC”  di Gianni Pinnizzotto
DESCRIPTION:Mostra Fotografica:  “JAZZ – BLACK MUSIC”  di Gianni Pinnizzotto
20 Giugno 2010
Museo Nazionale Preistorico Etnografico Luigi Pigorini, Roma
LOCATION:Via Latina, 515
END:VEVENT
END:VCALENDAR
