BEGIN:VCALENDAR
VERSION:2.0
PRODID:-//Associazione Graffiti
CALSCALE:GREGORIAN
METHOD:PUBLISH
X-WR-CALNAME:Associazione Graffiti
X-ORIGINAL-URL:https://graffitiscuola.it/event/mostra-fotografica-effetti-collaterali-di-autori-vari/
X-WR-CALDESC:Mostra Fotografica: “EFFETTI COLLATERALI” di Autori Vari &#8211; Ferentino Foto Festival
BEGIN:VEVENT
DTSTART:20140918T000000
DTEND:20140921T000000
SUMMARY:Mostra Fotografica: “EFFETTI COLLATERALI” di Autori Vari &#8211; Ferentino Foto Festival
DESCRIPTION:Mostra Fotografica: “EFFETTI COLLATERALI” di Autori Vari
18 - 21 Settembre 2014
Ferentino Foto Festival
LOCATION:
END:VEVENT
END:VCALENDAR
