BEGIN:VCALENDAR
VERSION:2.0
PRODID:-//Associazione Graffiti
CALSCALE:GREGORIAN
METHOD:PUBLISH
X-WR-CALNAME:Associazione Graffiti
X-ORIGINAL-URL:https://graffitiscuola.it/event/mostra-fotografica-antarctica-di-paolo-beltrame-piazza-colonna-antartica/
X-WR-CALDESC:Mostra Fotografica: “ANTARCTICA” di Paolo Beltrame
BEGIN:VEVENT
DTSTART:20151007T000000
DTEND:20151105T000000
SUMMARY:Mostra Fotografica: “ANTARCTICA” di Paolo Beltrame
DESCRIPTION:Mostra Fotografica: “ANTARCTICA” di Paolo Beltrame 
7 Ottobre - 5 Novembre 2015
Libreria La Feltrinelli Colonna - Galleria Alberto Sordi, Roma
LOCATION:
END:VEVENT
END:VCALENDAR
