BEGIN:VCALENDAR
VERSION:2.0
PRODID:-//Associazione Graffiti
CALSCALE:GREGORIAN
METHOD:PUBLISH
X-WR-CALNAME:Associazione Graffiti
X-ORIGINAL-URL:https://graffitiscuola.it/event/mostra-fotografica-i-grandi-maestri-del-cinema-italiano-di-gianni-pinnizzotto-graffiti/
X-WR-CALDESC:Mostra Fotografica: “I Grandi Maestri del Cinema Italiano” di Gianni Pinnizzotto &#8211; San Paolo, Brasile
BEGIN:VEVENT
DTSTART:20141118T000000
DTEND:20141123T000000
SUMMARY:Mostra Fotografica: “I Grandi Maestri del Cinema Italiano” di Gianni Pinnizzotto &#8211; San Paolo, Brasile
DESCRIPTION:Mostra Fotografica: “I GRANDI MAESTRI DEL CINEMA ITALIANO” di Gianni Pinnizzotto
18 - 23 Novembre 2014
MIS - Museo dell'Immagine e del Suono - San Paolo, Brasile
LOCATION:
END:VEVENT
END:VCALENDAR
