BEGIN:VCALENDAR
VERSION:2.0
PRODID:-//Associazione Graffiti
CALSCALE:GREGORIAN
METHOD:PUBLISH
X-WR-CALNAME:Associazione Graffiti
X-ORIGINAL-URL:https://graffitiscuola.it/event/libro-fotografico-rom-figli-di-un-dio-minore-di-autori-vari-edizione-graffiti/
X-WR-CALDESC:Libro fotografico:  “ROM – Figli di un Dio minore ” di Autori Vari  Edizione GRAFFITI
BEGIN:VEVENT
DTSTART:
DTEND:
SUMMARY:Libro fotografico:  “ROM – Figli di un Dio minore ” di Autori Vari  Edizione GRAFFITI
DESCRIPTION:Libro fotografico:  “ROM – Figli di un Dio minore ” di Autori Vari  Edizione GRAFFITI
LOCATION:Via Latina, 515
END:VEVENT
END:VCALENDAR
