BEGIN:VCALENDAR
VERSION:2.0
PRODID:-//Associazione Graffiti
CALSCALE:GREGORIAN
METHOD:PUBLISH
X-WR-CALNAME:Associazione Graffiti
X-ORIGINAL-URL:https://graffitiscuola.it/event/libro-fotografico-waf-jeremie-linizio-della-speranza-di-marco-baroncini-edizione-graffiti/
X-WR-CALDESC:Libro fotografico:  “WAF JEREMIE, l’inizio della Speranza” di Marco Baroncini Edizione GRAFFITI
BEGIN:VEVENT
DTSTART:
DTEND:
SUMMARY:Libro fotografico:  “WAF JEREMIE, l’inizio della Speranza” di Marco Baroncini Edizione GRAFFITI
DESCRIPTION:Libro fotografico:  “WAF JEREMIE, l’inizio della Speranza” di Marco Baroncini Edizione GRAFFITI
LOCATION:Via Latina, 515
END:VEVENT
END:VCALENDAR
