BEGIN:VCALENDAR
VERSION:2.0
PRODID:-//Associazione Graffiti
CALSCALE:GREGORIAN
METHOD:PUBLISH
X-WR-CALNAME:Associazione Graffiti
X-ORIGINAL-URL:https://graffitiscuola.it/event/libro-fotografico-nelloltre-nellaltro-nellaltrove-religione-e-migrazione-a-roma-di-autori-vari-edizione-graffiti/
X-WR-CALDESC:Libro fotografico: “Nell&#8217;oltre, nell&#8217;altro, nell&#8217;altrove.. Religione e Migrazione a Roma” di Autori Vari  Edizione GRAFFITI
BEGIN:VEVENT
DTSTART:
DTEND:
SUMMARY:Libro fotografico: “Nell&#8217;oltre, nell&#8217;altro, nell&#8217;altrove.. Religione e Migrazione a Roma” di Autori Vari  Edizione GRAFFITI
DESCRIPTION:Libro fotografico: “Nell'oltre, nell'altro, nell'altrove.. Religione e Migrazione a Roma” di Autori Vari  Edizione GRAFFITI
LOCATION:Via Latina, 515
END:VEVENT
END:VCALENDAR
