BEGIN:VCALENDAR
VERSION:2.0
PRODID:-//Associazione Graffiti
CALSCALE:GREGORIAN
METHOD:PUBLISH
X-WR-CALNAME:Associazione Graffiti
X-ORIGINAL-URL:https://graffitiscuola.it/event/libro-fotografico-in-viaggio-di-sabrina-zimmitti-edizione-graffiti/
X-WR-CALDESC:Libro fotografico:  “In viaggio” di Sabrina Zimmitti Edizione GRAFFITI
BEGIN:VEVENT
DTSTART:
DTEND:
SUMMARY:Libro fotografico:  “In viaggio” di Sabrina Zimmitti Edizione GRAFFITI
DESCRIPTION:Libro fotografico:  “In viaggio” di Sabrina Zimmitti Edizione GRAFFITI
LOCATION:Via Latina, 515
END:VEVENT
END:VCALENDAR
