BEGIN:VCALENDAR
VERSION:2.0
PRODID:-//Associazione Graffiti
CALSCALE:GREGORIAN
METHOD:PUBLISH
X-WR-CALNAME:Associazione Graffiti
X-ORIGINAL-URL:https://graffitiscuola.it/event/libro-fotografico-forma-volume-superficie-colore-di-autori-vari-edizione-graffiti/
X-WR-CALDESC:Libro fotografico:  “Forma volume superficie colore” di Autori vari Edizione GRAFFITI
BEGIN:VEVENT
DTSTART:
DTEND:
SUMMARY:Libro fotografico:  “Forma volume superficie colore” di Autori vari Edizione GRAFFITI
DESCRIPTION:Libro fotografico:  “Forma volume superficie colore” di Autori vari Edizione GRAFFITI
LOCATION:Via Latina, 515
END:VEVENT
END:VCALENDAR
