BEGIN:VCALENDAR
VERSION:2.0
PRODID:-//Associazione Graffiti
CALSCALE:GREGORIAN
METHOD:PUBLISH
X-WR-CALNAME:Associazione Graffiti
X-ORIGINAL-URL:https://graffitiscuola.it/event/viaggio-fotografico-reportage-in-palestina-marzo-2015/
X-WR-CALDESC:Viaggio Fotografico &#8211; Reportage in Terra Santa: Marzo 2015
BEGIN:VEVENT
DTSTART:20150328T000000
DTEND:20150406T000000
SUMMARY:Viaggio Fotografico &#8211; Reportage in Terra Santa: Marzo 2015
DESCRIPTION:Viaggio Fotografico - Reportage in Palestina e Israele: Marzo 2015
LOCATION:
END:VEVENT
END:VCALENDAR
