BEGIN:VCALENDAR
VERSION:2.0
PRODID:-//Associazione Graffiti
CALSCALE:GREGORIAN
METHOD:PUBLISH
X-WR-CALNAME:Associazione Graffiti
X-ORIGINAL-URL:https://graffitiscuola.it/event/viaggio-fotografico-reportage-in-palestina-luglio-2015/
X-WR-CALDESC:Viaggio Fotografico &#8211; Reportage in Palestina: Marzo 2013
BEGIN:VEVENT
DTSTART:20130324T000000
DTEND:20130401T000000
SUMMARY:Viaggio Fotografico &#8211; Reportage in Palestina: Marzo 2013
DESCRIPTION:Viaggio Fotografico - Reportage in Palestina: Marzo 2013
LOCATION:
END:VEVENT
END:VCALENDAR
