BEGIN:VCALENDAR
VERSION:2.0
PRODID:-//Associazione Graffiti
CALSCALE:GREGORIAN
METHOD:PUBLISH
X-WR-CALNAME:Associazione Graffiti
X-ORIGINAL-URL:https://graffitiscuola.it/event/viaggio-fotografico-reportage-in-toscana-dicembre-2014/
X-WR-CALDESC:Weekend Fotografico &#8211; Workshop in Toscana: Dicembre 2014
BEGIN:VEVENT
DTSTART:20141206T000000
DTEND:20141208T000000
SUMMARY:Weekend Fotografico &#8211; Workshop in Toscana: Dicembre 2014
DESCRIPTION:Weekend Fotografico - Workshop in Toscana: Dicembre 2014
LOCATION:
END:VEVENT
END:VCALENDAR
