BEGIN:VCALENDAR
VERSION:2.0
PRODID:-//Associazione Graffiti
CALSCALE:GREGORIAN
METHOD:PUBLISH
X-WR-CALNAME:Associazione Graffiti
X-ORIGINAL-URL:https://graffitiscuola.it/event/viaggio-fotografico-reportage-in-toscana-dicembre-2013/
X-WR-CALDESC:Viaggio Fotografico &#8211; Reportage in Toscana: Dicembre 2013
BEGIN:VEVENT
DTSTART:20131206T000000
DTEND:20131208T000000
SUMMARY:Viaggio Fotografico &#8211; Reportage in Toscana: Dicembre 2013
DESCRIPTION:Viaggio Fotografico - Reportage in Toscana: Dicembre 2013
LOCATION:
END:VEVENT
END:VCALENDAR
