BEGIN:VCALENDAR
VERSION:2.0
PRODID:-//Associazione Graffiti
CALSCALE:GREGORIAN
METHOD:PUBLISH
X-WR-CALNAME:Associazione Graffiti
X-ORIGINAL-URL:https://graffitiscuola.it/event/viaggio-fotografico-reportage-a-venezia-febbraio-2013/
X-WR-CALDESC:Viaggio Fotografico &#8211; Reportage a Venezia: Febbraio 2013
BEGIN:VEVENT
DTSTART:20130208T000000
DTEND:20130210T000000
SUMMARY:Viaggio Fotografico &#8211; Reportage a Venezia: Febbraio 2013
DESCRIPTION:Viaggio Fotografico - Reportage a Venezia: Febbraio 2013
LOCATION:
END:VEVENT
END:VCALENDAR
