BEGIN:VCALENDAR
VERSION:2.0
PRODID:-//Associazione Graffiti
CALSCALE:GREGORIAN
METHOD:PUBLISH
X-WR-CALNAME:Associazione Graffiti
X-ORIGINAL-URL:https://graffitiscuola.it/event/viaggio-fotografico-reportage-a-ponza-giugno-2014/
X-WR-CALDESC:Weekend Fotografico &#8211; Workshop a Ponza: Giugno 2014
BEGIN:VEVENT
DTSTART:20140627T000000
DTEND:20140629T000000
SUMMARY:Weekend Fotografico &#8211; Workshop a Ponza: Giugno 2014
DESCRIPTION:Weekend Fotografico - Workshop a Ponza: Giugno 2014
LOCATION:
END:VEVENT
END:VCALENDAR
