BEGIN:VCALENDAR
VERSION:2.0
PRODID:-//Associazione Graffiti
CALSCALE:GREGORIAN
METHOD:PUBLISH
X-WR-CALNAME:Associazione Graffiti
X-ORIGINAL-URL:https://graffitiscuola.it/event/viaggio-fotografico-reportage-a-ponza-giugno-2012/
X-WR-CALDESC:Viaggio Fotografico &#8211; Reportage a Ponza: Giugno 2012
BEGIN:VEVENT
DTSTART:20120629T000000
DTEND:20120701T000000
SUMMARY:Viaggio Fotografico &#8211; Reportage a Ponza: Giugno 2012
DESCRIPTION:Viaggio Fotografico - Reportage a Ponza: Giugno 2012
LOCATION:
END:VEVENT
END:VCALENDAR
