BEGIN:VCALENDAR
VERSION:2.0
PRODID:-//Associazione Graffiti
CALSCALE:GREGORIAN
METHOD:PUBLISH
X-WR-CALNAME:Associazione Graffiti
X-ORIGINAL-URL:https://graffitiscuola.it/event/viaggio-fotografico-reportage-in-india-aprile-2010/
X-WR-CALDESC:Viaggio Fotografico &#8211; Reportage in India: Aprile 2010
BEGIN:VEVENT
DTSTART:20100401T000000
DTEND:20100410T000000
SUMMARY:Viaggio Fotografico &#8211; Reportage in India: Aprile 2010
DESCRIPTION:Viaggio Fotografico - Reportage in India: Aprile 2010
LOCATION:Via Latina, 515
END:VEVENT
END:VCALENDAR
