BEGIN:VCALENDAR
VERSION:2.0
PRODID:-//Associazione Graffiti
CALSCALE:GREGORIAN
METHOD:PUBLISH
X-WR-CALNAME:Associazione Graffiti
X-ORIGINAL-URL:https://graffitiscuola.it/event/inaugurazione-mostra-fotografica-di-marina-cerbo-rigeneriamoci-una-prospettiva-femmnile-sulla-citta/
X-WR-CALDESC:INAUGURAZIONE MOSTRA FOTOGRAFICA DI MARINA CERBO &#8220;Rigeneriamoci &#8211; una prospettiva femminile sulla città&#8221;
BEGIN:VEVENT
DTSTART:
DTEND:
SUMMARY:INAUGURAZIONE MOSTRA FOTOGRAFICA DI MARINA CERBO &#8220;Rigeneriamoci &#8211; una prospettiva femminile sulla città&#8221;
DESCRIPTION:INAUGURAZIONE MOSTRA FOTOGRAFICA DI MARINA CERBO
"Rigeneriamoci - una prospettiva femmnile sulla città"
MARETDI' 5 MAGGIO 2026 ORE 17.00

LOCATION:
END:VEVENT
END:VCALENDAR
