BEGIN:VCALENDAR
VERSION:2.0
PRODID:-//Associazione Graffiti
CALSCALE:GREGORIAN
METHOD:PUBLISH
X-WR-CALNAME:Associazione Graffiti
X-ORIGINAL-URL:https://graffitiscuola.it/event/novita-workshop-per-tutti-di-macrofotografia-larte-di-fotografare-soggetti-minuscoli-a-distanza-ravvicinata/
X-WR-CALDESC:NOVITA&#8217;: WORKSHOP PER TUTTI DI &#8220;MACROFOTOGRAFIA&#8221;: L’arte di fotografare soggetti minuscoli a distanza ravvicinata
BEGIN:VEVENT
DTSTART:
DTEND:
SUMMARY:NOVITA&#8217;: WORKSHOP PER TUTTI DI &#8220;MACROFOTOGRAFIA&#8221;: L’arte di fotografare soggetti minuscoli a distanza ravvicinata
DESCRIPTION:WORKSHOP PER TUTTI DI "MACROFOTOGRAFIA":
L’arte di fotografare soggetti minuscoli a distanza ravvicinata
Maggio/Giugno 2026

LOCATION:
END:VEVENT
END:VCALENDAR
