BEGIN:VCALENDAR
VERSION:2.0
PRODID:-//Associazione Graffiti
CALSCALE:GREGORIAN
METHOD:PUBLISH
X-WR-CALNAME:Associazione Graffiti
X-ORIGINAL-URL:https://graffitiscuola.it/event/workshop-fotografico-a-bologna-visita-guidata-alle-mostre-fotografiche-di-ruth-orkin-saul-leiter/
X-WR-CALDESC:WORKSHOP FOTOGRAFICO A BOLOGNA &#038; VISITA GUIDATA ALLE MOSTRE FOTOGRAFICHE DI RUTH ORKIN &#038; SAUL LEITER
BEGIN:VEVENT
DTSTART:
DTEND:
SUMMARY:WORKSHOP FOTOGRAFICO A BOLOGNA &#038; VISITA GUIDATA ALLE MOSTRE FOTOGRAFICHE DI RUTH ORKIN &#038; SAUL LEITER
DESCRIPTION:WORKSHOP FOTOGRAFICO A BOLOGNA &
VISITA GUIDATA ALLE MOSTRE FOTOGRAFICHE DI RUTH ORKIN & SAUL LEITER
Domenica 14 giugno 2026 ore 10/18
LOCATION:
END:VEVENT
END:VCALENDAR
