BEGIN:VCALENDAR
VERSION:2.0
PRODID:-//Associazione Graffiti
CALSCALE:GREGORIAN
METHOD:PUBLISH
X-WR-CALNAME:Associazione Graffiti
X-ORIGINAL-URL:https://graffitiscuola.it/event/visita-guidata-alla-mostra-fotografica-di-robert-doisneau-sabato-6-giugno-2026a/
X-WR-CALDESC:VISITA GUIDATA ALLA MOSTRA FOTOGRAFICA DI ROBERT DOISNEAU &#8211; Sabato 6 giugno 2026 ore 16
BEGIN:VEVENT
DTSTART:
DTEND:
SUMMARY:VISITA GUIDATA ALLA MOSTRA FOTOGRAFICA DI ROBERT DOISNEAU &#8211; Sabato 6 giugno 2026 ore 16
DESCRIPTION:Sabato 6 giugno 2026 ore 1
VISITA GUIDATA ALLA MOSTRA FOTOGRAFICA DI ROBERT DOISNEAU

LOCATION:
END:VEVENT
END:VCALENDAR
