BEGIN:VCALENDAR
VERSION:2.0
PRODID:-//Associazione Graffiti
CALSCALE:GREGORIAN
METHOD:PUBLISH
X-WR-CALNAME:Associazione Graffiti
X-ORIGINAL-URL:https://graffitiscuola.it/event/sabato-23-maggio-2026-ore-18-00-inaugurazione-mostra-di-poesia-e-fotografia-ersilia-soccorrersi-vicendevolmente-di-manuel-roma-simone-51-fani/
X-WR-CALDESC:INAUGURAZIONE MOSTRA DI POESIA E FOTOGRAFIA &#8220;ERSILIA&#8221; Soccorrersi Vicendevolmente di MANUEL ROMA &#038; SIMONE 51 FANI
BEGIN:VEVENT
DTSTART:
DTEND:
SUMMARY:INAUGURAZIONE MOSTRA DI POESIA E FOTOGRAFIA &#8220;ERSILIA&#8221; Soccorrersi Vicendevolmente di MANUEL ROMA &#038; SIMONE 51 FANI
DESCRIPTION:SABATO 23 MAGGIO 2026 ORE 18.00
INAUGURAZIONE MOSTRA DI POESIA E FOTOGRAFIA "ERSILIA" Soccorrersi Vicendevolmente
DI MANUEL ROMA & SIMONE 51 FANI
LOCATION:
END:VEVENT
END:VCALENDAR
