BEGIN:VCALENDAR
VERSION:2.0
PRODID:-//Associazione Graffiti
CALSCALE:GREGORIAN
METHOD:PUBLISH
X-WR-CALNAME:Associazione Graffiti
X-ORIGINAL-URL:https://graffitiscuola.it/event/visione-doc-matteo-arrigo/
X-WR-CALDESC:PROIEZIONE DEL DOCUFILM “NO GOOD MORNING – NO GOOD NIGHT” DI MATTEO ARRIGO e DIBATTITO CON L&#8217;AUTORE
BEGIN:VEVENT
DTSTART:
DTEND:
SUMMARY:PROIEZIONE DEL DOCUFILM “NO GOOD MORNING – NO GOOD NIGHT” DI MATTEO ARRIGO e DIBATTITO CON L&#8217;AUTORE
DESCRIPTION:MARTEDI 19 MAGGIO 2026 ORE 19.30
PROIEZIONE DEL DOCUFILM “NO GOOD MORNING – NO GOOD NIGHT” DI MATTEO ARRIGO E DIBATTITO CON L'AUTORE

LOCATION:
END:VEVENT
END:VCALENDAR
