BEGIN:VCALENDAR
VERSION:2.0
PRODID:-//Associazione Graffiti
CALSCALE:GREGORIAN
METHOD:PUBLISH
X-WR-CALNAME:Associazione Graffiti
X-ORIGINAL-URL:https://graffitiscuola.it/event/viaggio-fotografico-reportage-in-beirut-ottobre-2011/
X-WR-CALDESC:Viaggio Fotografico &#8211; Reportage a Beirut: Ottobre 2011
BEGIN:VEVENT
DTSTART:20111030T000000
DTEND:20111103T000000
SUMMARY:Viaggio Fotografico &#8211; Reportage a Beirut: Ottobre 2011
DESCRIPTION:Viaggio Fotografico - Reportage a Beirut: Ottobre 2011
LOCATION:
END:VEVENT
END:VCALENDAR
