BEGIN:VCALENDAR
VERSION:2.0
PRODID:-//Associazione Graffiti
CALSCALE:GREGORIAN
METHOD:PUBLISH
X-WR-CALNAME:Associazione Graffiti
X-ORIGINAL-URL:https://graffitiscuola.it/event/mostra-fotografica-primi-impatti-allievi-graffiti-inaugurazione-sabato-14-marzo-2026-ore-18-20/
X-WR-CALDESC:Mostra Fotografica &#8220;PRIMI IMPATTI&#8221; Allievi Graffiti &#8211; Inaugurazione Sabato 14 marzo 2026 ore 18/20
BEGIN:VEVENT
DTSTART:
DTEND:
SUMMARY:Mostra Fotografica &#8220;PRIMI IMPATTI&#8221; Allievi Graffiti &#8211; Inaugurazione Sabato 14 marzo 2026 ore 18/20
DESCRIPTION:Sabato 14 marzo 2026 ore 18
INAUGURAZIONE MOSTRA FOTOGRAFICA "PRIMI IMPATTI" 
Allievi Corso Fotografia Generale 
LOCATION:
END:VEVENT
END:VCALENDAR
