BEGIN:VCALENDAR
VERSION:2.0
PRODID:-//Associazione Graffiti
CALSCALE:GREGORIAN
METHOD:PUBLISH
X-WR-CALNAME:Associazione Graffiti
X-ORIGINAL-URL:https://graffitiscuola.it/event/visita-guidata-alla-mostra-fotografica-di-irving-penn-domenica-29-marzo-2026-ore-15/
X-WR-CALDESC:VISITA GUIDATA ALLA MOSTRA FOTOGRAFICA DI IRVING PENN &#8211; Domenica 29 marzo 2026 ore 15
BEGIN:VEVENT
DTSTART:
DTEND:
SUMMARY:VISITA GUIDATA ALLA MOSTRA FOTOGRAFICA DI IRVING PENN &#8211; Domenica 29 marzo 2026 ore 15
DESCRIPTION:Domenica 29 marzo 2026 ore 15
VISITA GUIDATA ALLA MOSTRA FOTOGRAFICA DI IRVING PENN
LOCATION:
END:VEVENT
END:VCALENDAR
