BEGIN:VCALENDAR
VERSION:2.0
PRODID:-//Associazione Graffiti
CALSCALE:GREGORIAN
METHOD:PUBLISH
X-WR-CALNAME:Associazione Graffiti
X-ORIGINAL-URL:https://graffitiscuola.it/event/presentazione-del-viaggio-fotografico-alla-scoperta-della-tunisia-giovedi-19-febbraio-2026-ore-19-30/
X-WR-CALDESC:Presentazione del Viaggio Fotografico &#8220;Alla scoperta della Tunisia&#8221; &#8211; Giovedì 19 febbraio 2026 ore 19.30
BEGIN:VEVENT
DTSTART:
DTEND:
SUMMARY:Presentazione del Viaggio Fotografico &#8220;Alla scoperta della Tunisia&#8221; &#8211; Giovedì 19 febbraio 2026 ore 19.30
DESCRIPTION:Giovedì 19 febbraio 2026 ore 19.30
Presentazione del Viaggio Fotografico "Alla scoperta della Tunisia"
in programma dal 24 aprile al 3 maggio 2026
LOCATION:
END:VEVENT
END:VCALENDAR
