BEGIN:VCALENDAR
VERSION:2.0
PRODID:-//Associazione Graffiti
CALSCALE:GREGORIAN
METHOD:PUBLISH
X-WR-CALNAME:Associazione Graffiti
X-ORIGINAL-URL:https://graffitiscuola.it/event/visita-guidata-alla-mostra-fotografica-di-laszlo-moholy-nagy-sabato-21-febbraio-2026-ore-15/
X-WR-CALDESC:VISITA GUIDATA ALLA MOSTRA FOTOGRAFICA DI LÁSZLÓ MOHOLY-NAGY &#8211; Sabato 21 febbraio 2026 ore 15
BEGIN:VEVENT
DTSTART:
DTEND:
SUMMARY:VISITA GUIDATA ALLA MOSTRA FOTOGRAFICA DI LÁSZLÓ MOHOLY-NAGY &#8211; Sabato 21 febbraio 2026 ore 15
DESCRIPTION:Sabato 21 febbraio 2026
VISITA GUIDATA ALLA MOSTRA FOTOGRAFICA DI 
László Moholy-Nagy
LOCATION:
END:VEVENT
END:VCALENDAR
