BEGIN:VCALENDAR
VERSION:2.0
PRODID:-//Associazione Graffiti
CALSCALE:GREGORIAN
METHOD:PUBLISH
X-WR-CALNAME:Associazione Graffiti
X-ORIGINAL-URL:https://graffitiscuola.it/event/libro-fotografico-colori-sospesi-nel-tempo-di-alessandro-giugni-edizione-graffiti/
X-WR-CALDESC:Libro Fotografico &#8220;COLORI SOSPESI NEL TEMPO&#8221; di Alessandro Giugni &#8211; Edizione Graffiti
BEGIN:VEVENT
DTSTART:
DTEND:
SUMMARY:Libro Fotografico &#8220;COLORI SOSPESI NEL TEMPO&#8221; di Alessandro Giugni &#8211; Edizione Graffiti
DESCRIPTION:Libro Fotografico
"COLORI SOSPESI NEL TEMPO" 
di Alessandro Giugni - Edizione Graffiti
LOCATION:
END:VEVENT
END:VCALENDAR
