BEGIN:VCALENDAR
VERSION:2.0
PRODID:-//Associazione Graffiti
CALSCALE:GREGORIAN
METHOD:PUBLISH
X-WR-CALNAME:Associazione Graffiti
X-ORIGINAL-URL:https://graffitiscuola.it/event/inaugurazione-mostra-fotografica-paesaggi-lontani-di-roberto-francini-sabato-17-gennaio-2026-ore-18/
X-WR-CALDESC:INAUGURAZIONE MOSTRA FOTOGRAFICA &#8220;Paesaggi Lontani&#8221; di ROBERTO FRANCINI &#8211; Sabato 17 gennaio 2026 ore 18
BEGIN:VEVENT
DTSTART:
DTEND:
SUMMARY:INAUGURAZIONE MOSTRA FOTOGRAFICA &#8220;Paesaggi Lontani&#8221; di ROBERTO FRANCINI &#8211; Sabato 17 gennaio 2026 ore 18
DESCRIPTION:Sabato 17 gennaio 2026 ore 18
Inaugurazione Mostra Fotografica
"Paesaggi Lontani" di ROBERTO FRANCINI
LOCATION:
END:VEVENT
END:VCALENDAR
