BEGIN:VCALENDAR
VERSION:2.0
PRODID:-//Associazione Graffiti
CALSCALE:GREGORIAN
METHOD:PUBLISH
X-WR-CALNAME:Associazione Graffiti
X-ORIGINAL-URL:https://graffitiscuola.it/event/festa-di-natale-graffiti-sabato-13-dicembre-2025/
X-WR-CALDESC:Festa di Natale Graffiti &#8211; Sabato 13 dicembre 2025
BEGIN:VEVENT
DTSTART:
DTEND:
SUMMARY:Festa di Natale Graffiti &#8211; Sabato 13 dicembre 2025
DESCRIPTION:Festa di Natale Graffiti
Sabato 13 dicembre 2025
LOCATION:
END:VEVENT
END:VCALENDAR
