BEGIN:VCALENDAR
VERSION:2.0
PRODID:-//Associazione Graffiti
CALSCALE:GREGORIAN
METHOD:PUBLISH
X-WR-CALNAME:Associazione Graffiti
X-ORIGINAL-URL:https://graffitiscuola.it/event/mostra-fotografica-lisbona-di-armando-casali-sabato-15-novembre-2025/
X-WR-CALDESC:MOSTRA FOTOGRAFICA &#8220;LISBONA&#8221; di ARMANDO CASALI &#8211; Sabato 15 novembre 2025
BEGIN:VEVENT
DTSTART:
DTEND:
SUMMARY:MOSTRA FOTOGRAFICA &#8220;LISBONA&#8221; di ARMANDO CASALI &#8211; Sabato 15 novembre 2025
DESCRIPTION:Sabato 15 novembre 2025 ore 18
Inaugurazione Mostra Fotografica "LISBONA" 
di ARMANDO CASALI
LOCATION:Via Latina, 515
END:VEVENT
END:VCALENDAR
