BEGIN:VCALENDAR
VERSION:2.0
PRODID:-//Associazione Graffiti
CALSCALE:GREGORIAN
METHOD:PUBLISH
X-WR-CALNAME:Associazione Graffiti
X-ORIGINAL-URL:https://graffitiscuola.it/event/libro-fotografico-asian-markets-di-paolo-beltrame-edizione-graffiti/
X-WR-CALDESC:Libro Fotografico &#8220;ASIAN MARKETS&#8221; di Paolo Beltrame &#8211; Edizione Graffiti
BEGIN:VEVENT
DTSTART:
DTEND:
SUMMARY:Libro Fotografico &#8220;ASIAN MARKETS&#8221; di Paolo Beltrame &#8211; Edizione Graffiti
DESCRIPTION:Libro Fotografico "ASIAN MARKETS" 
di Paolo Beltrame - Edizione Graffiti

LOCATION:
END:VEVENT
END:VCALENDAR
