BEGIN:VCALENDAR
VERSION:2.0
PRODID:-//Associazione Graffiti
CALSCALE:GREGORIAN
METHOD:PUBLISH
X-WR-CALNAME:Associazione Graffiti
X-ORIGINAL-URL:https://graffitiscuola.it/event/presentazione-del-libro-di-poesie-in-breve-tra-le-righe-di-sonia-zimmitti-prefazione-di-gianni-pinnizzotto/
X-WR-CALDESC:Presentazione del libro di poesie &#8220;In breve tra le righe&#8221; di Sonia Zimmitti &#8211; Prefazione di Gianni Pinnizzotto
BEGIN:VEVENT
DTSTART:
DTEND:
SUMMARY:Presentazione del libro di poesie &#8220;In breve tra le righe&#8221; di Sonia Zimmitti &#8211; Prefazione di Gianni Pinnizzotto
DESCRIPTION:Sabato 25 ottobre ore 16.30
Presentazione del libro di poesie "In breve tra le righe" di Sonia Zimmitti 
Prefazione di Gianni Pinnizzotto
LOCATION:
END:VEVENT
END:VCALENDAR
