BEGIN:VCALENDAR
VERSION:2.0
PRODID:-//Associazione Graffiti
CALSCALE:GREGORIAN
METHOD:PUBLISH
X-WR-CALNAME:Associazione Graffiti
X-ORIGINAL-URL:https://graffitiscuola.it/event/escursione-fotografica-aielli-e-alba-fucens-sabato-18-ottobre-2025/
X-WR-CALDESC:Escursione fotografica: Aielli e Alba Fucens &#8211; Sabato 18 ottobre 2025
BEGIN:VEVENT
DTSTART:
DTEND:
SUMMARY:Escursione fotografica: Aielli e Alba Fucens &#8211; Sabato 18 ottobre 2025
DESCRIPTION:Sabato 18 ottobre 2025
Escursione fotografica: Aielli e Alba Fucens
LOCATION:
END:VEVENT
END:VCALENDAR
