BEGIN:VCALENDAR
VERSION:2.0
PRODID:-//Associazione Graffiti
CALSCALE:GREGORIAN
METHOD:PUBLISH
X-WR-CALNAME:Associazione Graffiti
X-ORIGINAL-URL:https://graffitiscuola.it/event/workshop-fotografico-premaman-con-modella-professionista-11-ottobre-2025/
X-WR-CALDESC:Workshop Fotografico &#8220;PREMAMAN&#8221; con modella professionista &#8211; Sabato 11 ottobre 2025
BEGIN:VEVENT
DTSTART:
DTEND:
SUMMARY:Workshop Fotografico &#8220;PREMAMAN&#8221; con modella professionista &#8211; Sabato 11 ottobre 2025
DESCRIPTION:Sabato 11 ottobre 2025
Workshop Fotografico "PREMAMAN" con modella professionista 
LOCATION:
END:VEVENT
END:VCALENDAR
