BEGIN:VCALENDAR
VERSION:2.0
PRODID:-//Associazione Graffiti
CALSCALE:GREGORIAN
METHOD:PUBLISH
X-WR-CALNAME:Associazione Graffiti
X-ORIGINAL-URL:https://graffitiscuola.it/event/visita-guidata-alle-mostre-fotografiche-di-elliott-erwitt-icons-george-hoyningen-huene-art-fashion-cinema-domenica-14-settembre-2025/
X-WR-CALDESC:Visita guidata alle mostre fotografiche di Elliott Erwitt/ICONS &#038; George Hoyningen Huene/Art.Fashion.Cinema Domenica 14 settembre 2025
BEGIN:VEVENT
DTSTART:
DTEND:
SUMMARY:Visita guidata alle mostre fotografiche di Elliott Erwitt/ICONS &#038; George Hoyningen Huene/Art.Fashion.Cinema Domenica 14 settembre 2025
DESCRIPTION:Domenica 14 settembre 2025 - Visita guidata alle mostre fotografiche di Elliott Erwitt/ICONS & George Hoyningen Huene/Art.Fashion.Cinema 
LOCATION:
END:VEVENT
END:VCALENDAR
