BEGIN:VCALENDAR
VERSION:2.0
PRODID:-//Associazione Graffiti
CALSCALE:GREGORIAN
METHOD:PUBLISH
X-WR-CALNAME:Associazione Graffiti
X-ORIGINAL-URL:https://graffitiscuola.it/event/gianni-pinnizzotto-presenta-il-suo-libro-fotografico-racconto-per-immagini-domenica-15-giugno-2025-ore-18/
X-WR-CALDESC:Gianni Pinnizzotto presenta il suo libro fotografico &#8220;Racconto per Immagini&#8221; &#8211; Domenica 15 giugno 2025 ore 18
BEGIN:VEVENT
DTSTART:
DTEND:
SUMMARY:Gianni Pinnizzotto presenta il suo libro fotografico &#8220;Racconto per Immagini&#8221; &#8211; Domenica 15 giugno 2025 ore 18
DESCRIPTION:Domenica 15 giugno 2025 ore 18
Presentazione del nuovo libro fotografico "Racconto per Immagini"
del Direttore Gianni Pinnizzotto 
LOCATION:
END:VEVENT
END:VCALENDAR
