BEGIN:VCALENDAR
VERSION:2.0
PRODID:-//Associazione Graffiti
CALSCALE:GREGORIAN
METHOD:PUBLISH
X-WR-CALNAME:Associazione Graffiti
X-ORIGINAL-URL:https://graffitiscuola.it/event/workshop-fotografico-a-napoli-visita-guidata-alla-mostra-fotografica-di-mimmo-jodice-sabato-28-giugno-2025/
X-WR-CALDESC:WORKSHOP FOTOGRAFICO A NAPOLI &#038; VISITA GUIDATA ALLA MOSTRA FOTOGRAFICA DI MIMMO JODICE &#8211; Sabato 28 giugno 2025
BEGIN:VEVENT
DTSTART:
DTEND:
SUMMARY:WORKSHOP FOTOGRAFICO A NAPOLI &#038; VISITA GUIDATA ALLA MOSTRA FOTOGRAFICA DI MIMMO JODICE &#8211; Sabato 28 giugno 2025
DESCRIPTION:Sabato 28 giugno 2025
WORKSHOP FOTOGRAFICO A NAPOLI & VISITA GUIDATA ALLA MOSTRA FOTOGRAFICA DI MIMMO JODICE
LOCATION:
END:VEVENT
END:VCALENDAR
