BEGIN:VCALENDAR
VERSION:2.0
PRODID:-//Associazione Graffiti
CALSCALE:GREGORIAN
METHOD:PUBLISH
X-WR-CALNAME:Associazione Graffiti
X-ORIGINAL-URL:https://graffitiscuola.it/event/visita-guidata-alla-mostra-fotografica-di-richard-avedon-sabato-17-maggio-2025-ore/
X-WR-CALDESC:Visita guidata alla Mostra Fotografica di Richard Avedon &#8211; Sabato 17 maggio 2025 ore 10.30
BEGIN:VEVENT
DTSTART:
DTEND:
SUMMARY:Visita guidata alla Mostra Fotografica di Richard Avedon &#8211; Sabato 17 maggio 2025 ore 10.30
DESCRIPTION:Sabato 17 maggio 2025 ore 
Visita guidata alla Mostra Fotografica di Richard Avedon
LOCATION:
END:VEVENT
END:VCALENDAR
