BEGIN:VCALENDAR
VERSION:2.0
PRODID:-//Associazione Graffiti
CALSCALE:GREGORIAN
METHOD:PUBLISH
X-WR-CALNAME:Associazione Graffiti
X-ORIGINAL-URL:https://graffitiscuola.it/event/visita-guidata-alle-mostre-fotografiche-di-mario-giacomelli-e-del-wpp-2025-domenica-25-maggio-2025-ore-10-30/
X-WR-CALDESC:Visita guidata alle Mostre Fotografiche di Mario Giacomelli e del WPP 2025 &#8211; Domenica 25 maggio 2025 ore 10.30
BEGIN:VEVENT
DTSTART:
DTEND:
SUMMARY:Visita guidata alle Mostre Fotografiche di Mario Giacomelli e del WPP 2025 &#8211; Domenica 25 maggio 2025 ore 10.30
DESCRIPTION:Domenica 25 maggio 2025 ore 10.30
Visita guidata alle Mostre Fotografiche di Mario Giacomelli e del WPP 2025 
LOCATION:
END:VEVENT
END:VCALENDAR
