BEGIN:VCALENDAR
VERSION:2.0
PRODID:-//Associazione Graffiti
CALSCALE:GREGORIAN
METHOD:PUBLISH
X-WR-CALNAME:Associazione Graffiti
X-ORIGINAL-URL:https://graffitiscuola.it/event/mostra-fotografica-portraits-allievi-graffiti-inaugurazione-sabato-12-aprile-2025-ore-18/
X-WR-CALDESC:Mostra Fotografica &#8220;PORTRAITS&#8221; Allievi Graffiti &#8211; Inaugurazione Sabato 12 aprile 2025 ore 18
BEGIN:VEVENT
DTSTART:
DTEND:
SUMMARY:Mostra Fotografica &#8220;PORTRAITS&#8221; Allievi Graffiti &#8211; Inaugurazione Sabato 12 aprile 2025 ore 18
DESCRIPTION:Sabato 12 aprile 2025 ore 18
Inaugurazione  Mostra Fotografica "PORTRAITS" Allievi Graffiti
LOCATION:
END:VEVENT
END:VCALENDAR
