BEGIN:VCALENDAR
VERSION:2.0
PRODID:-//Associazione Graffiti
CALSCALE:GREGORIAN
METHOD:PUBLISH
X-WR-CALNAME:Associazione Graffiti
X-ORIGINAL-URL:https://graffitiscuola.it/event/seminario-di-fotografia-fotografai-fotografia-e-artificial-intelligence-sappiamo-leggere-unimmagine-a-cura-di-gianfranco-calandra-mercoledi-16-aprile-2025-ore-19/
X-WR-CALDESC:Seminario di Fotografia: &#8220;FotografAI. Fotografia e Artificial Intelligence.  Sappiamo “leggere” un’immagine?&#8221; A cura di Gianfranco Calandra &#8211; Mercoledì 16 Aprile 2025 ore 19.00
BEGIN:VEVENT
DTSTART:
DTEND:
SUMMARY:Seminario di Fotografia: &#8220;FotografAI. Fotografia e Artificial Intelligence.  Sappiamo “leggere” un’immagine?&#8221; A cura di Gianfranco Calandra &#8211; Mercoledì 16 Aprile 2025 ore 19.00
DESCRIPTION:Mercoledì 16 Aprile 2025 ore 19.00
SEMINARIO DI FOTOGRAFIA
FotografAI. Fotografia e Artificial Intelligence.  Sappiamo “leggere” un’immagine?
A cura di Gianfranco Calandra
LOCATION:
END:VEVENT
END:VCALENDAR
