BEGIN:VCALENDAR
VERSION:2.0
PRODID:-//Associazione Graffiti
CALSCALE:GREGORIAN
METHOD:PUBLISH
X-WR-CALNAME:Associazione Graffiti
X-ORIGINAL-URL:https://graffitiscuola.it/event/visita-guidata-alla-mostra-fotografica-di-nicola-sansone-domenica-13-aprile-2025-ore-11/
X-WR-CALDESC:Visita guidata alla Mostra Fotografica di Nicola Sansone &#8211; Domenica 13 Aprile 2025 ore 10
BEGIN:VEVENT
DTSTART:
DTEND:
SUMMARY:Visita guidata alla Mostra Fotografica di Nicola Sansone &#8211; Domenica 13 Aprile 2025 ore 10
DESCRIPTION:Domenica 13 Aprile 2025 ore 10
Visita guidata alla Mostra Fotografica di Nicola Sansone
LOCATION:
END:VEVENT
END:VCALENDAR
