BEGIN:VCALENDAR
VERSION:2.0
PRODID:-//Associazione Graffiti
CALSCALE:GREGORIAN
METHOD:PUBLISH
X-WR-CALNAME:Associazione Graffiti
X-ORIGINAL-URL:https://graffitiscuola.it/event/visita-guidata-alla-mostra-fotografica-di-guido-guidi-domenica-30-marzo-2025-ore-11/
X-WR-CALDESC:Visita guidata alla Mostra Fotografica di Guido Guidi &#8211; Domenica 30 marzo 2025 ore 11
BEGIN:VEVENT
DTSTART:
DTEND:
SUMMARY:Visita guidata alla Mostra Fotografica di Guido Guidi &#8211; Domenica 30 marzo 2025 ore 11
DESCRIPTION:Domenica 30 marzo 2025 ore 11
Visita guidata alla Mostra Fotografica di Guido Guidi 
LOCATION:
END:VEVENT
END:VCALENDAR
