BEGIN:VCALENDAR
VERSION:2.0
PRODID:-//Associazione Graffiti
CALSCALE:GREGORIAN
METHOD:PUBLISH
X-WR-CALNAME:Associazione Graffiti
X-ORIGINAL-URL:https://graffitiscuola.it/event/mostra-fotografica-lemozione-di-un-attimo-di-giorgio-correnti-sabato-8-marzo-2025-ore-18/
X-WR-CALDESC:MOSTRA FOTOGRAFICA &#8220;L&#8217;EMOZIONE DI UN ATTIMO&#8221; di GIORGIO CORRENTI &#8211; Sabato 8 marzo 2025 ore 18
BEGIN:VEVENT
DTSTART:
DTEND:
SUMMARY:MOSTRA FOTOGRAFICA &#8220;L&#8217;EMOZIONE DI UN ATTIMO&#8221; di GIORGIO CORRENTI &#8211; Sabato 8 marzo 2025 ore 18
DESCRIPTION:MOSTRA FOTOGRAFICA "L'EMOZIONE DI UN ATTIMO" di GIORGIO CORRENTI
Inaugurazione Sabato 8 marzo 2025 ore 18
LOCATION:
END:VEVENT
END:VCALENDAR
