BEGIN:VCALENDAR
VERSION:2.0
PRODID:-//Associazione Graffiti
CALSCALE:GREGORIAN
METHOD:PUBLISH
X-WR-CALNAME:Associazione Graffiti
X-ORIGINAL-URL:https://graffitiscuola.it/event/visita-guidata-alla-mostra-fotografica-di-franco-fontana-retrospective-domenica-23-febbraio-2025-ore-11-00/
X-WR-CALDESC:Visita guidata alla Mostra Fotografica di FRANCO FONTANA &#8220;RETROSPECTIVE&#8221; &#8211; Domenica 23 febbraio 2025 ore 11.00
BEGIN:VEVENT
DTSTART:
DTEND:
SUMMARY:Visita guidata alla Mostra Fotografica di FRANCO FONTANA &#8220;RETROSPECTIVE&#8221; &#8211; Domenica 23 febbraio 2025 ore 11.00
DESCRIPTION:Domenica 23 febbraio 2025 ore 11.00
Visita guidata alla Mostra Fotografica di FRANCO FONTANA "RETROSPECTIVE"  
LOCATION:
END:VEVENT
END:VCALENDAR
