BEGIN:VCALENDAR
VERSION:2.0
PRODID:-//Associazione Graffiti
CALSCALE:GREGORIAN
METHOD:PUBLISH
X-WR-CALNAME:Associazione Graffiti
X-ORIGINAL-URL:https://graffitiscuola.it/event/mostra-fotografica-bussola-di-dana-hilmy-sabato-15-febbraio-2025-ore-18/
X-WR-CALDESC:MOSTRA FOTOGRAFICA &#8220;BUSSOLA&#8221; di DANA HILMY &#8211; Sabato 15 febbraio 2025 ore 18
BEGIN:VEVENT
DTSTART:
DTEND:
SUMMARY:MOSTRA FOTOGRAFICA &#8220;BUSSOLA&#8221; di DANA HILMY &#8211; Sabato 15 febbraio 2025 ore 18
DESCRIPTION:MOSTRA FOTOGRAFICA "BUSSOLA" 
di DANA HILMY
Inaugurazione Sabato 15 febbraio 2025 ore 18
LOCATION:
END:VEVENT
END:VCALENDAR
