BEGIN:VCALENDAR
VERSION:2.0
PRODID:-//Associazione Graffiti
CALSCALE:GREGORIAN
METHOD:PUBLISH
X-WR-CALNAME:Associazione Graffiti
X-ORIGINAL-URL:https://graffitiscuola.it/event/visita-guidata-alla-mostra-fotografica-di-gabriele-basilico-roma-domenica-19-gennaio-2025-ore-15-00/
X-WR-CALDESC:Visita guidata alla Mostra Fotografica di Gabriele Basilico: &#8220;Roma&#8221; &#8211; Domenica 19 gennaio 2025 ore 15.00
BEGIN:VEVENT
DTSTART:
DTEND:
SUMMARY:Visita guidata alla Mostra Fotografica di Gabriele Basilico: &#8220;Roma&#8221; &#8211; Domenica 19 gennaio 2025 ore 15.00
DESCRIPTION:Domenica 19 gennaio 2025 ore 15.00
Visita guidata alla Mostra Fotografica di Gabriele Basilico: "Roma" 
LOCATION:
END:VEVENT
END:VCALENDAR
